BEGIN:VCALENDAR
VERSION:2.0
PRODID:-//eventon.com NONSGML v1.0//EN
CALSCALE:GREGORIAN
METHOD:PUBLISH
BEGIN:VEVENT
UID:69ecbb55cc5c7
DTSTAMP:20260425T130213Z
DTSTART:20240309T193000Z
DTEND:20240309T225000Z
LOCATION:
SUMMARY:Concierto de Banda San Sebastián de Padul
DESCRIPTION:Iglesia del Sagrado Corazón\nhttps://centroarrupemalaga.org/in
 dex.php/events/concierto-de-banda-san-sebastian-de-padul/
URL:https://centroarrupemalaga.org/index.php/events/concierto-de-banda-san-sebastian-de-padul/
END:VEVENT
END:VCALENDAR