BEGIN:VCALENDAR
VERSION:2.0
PRODID:-//eventon.com NONSGML v1.0//EN
CALSCALE:GREGORIAN
METHOD:PUBLISH
BEGIN:VEVENT
UID:69ed5af1c7caa
DTSTAMP:20260426T002313Z
DTSTART:20250313T190000Z
DTEND:20250313T225000Z
LOCATION:
SUMMARY:Conferencia: "La invención de Dios: el concilio de Nicea en su 1700 aniversario"
DESCRIPTION:Conferencia: "La invención de Dios: el concilio de Nicea en su
  1700 aniversario"\nhttps://centroarrupemalaga.org/index.php/events/confere
 ncia-la-invencion-de-dios-el-concilio-de-nicena-en-su-1700-aniversario/
URL:https://centroarrupemalaga.org/index.php/events/conferencia-la-invencion-de-dios-el-concilio-de-nicena-en-su-1700-aniversario/
END:VEVENT
END:VCALENDAR